BEGIN:VCALENDAR
VERSION:2.0
PRODID:-//NSACC - ECPv5.6.0//NONSGML v1.0//EN
CALSCALE:GREGORIAN
METHOD:PUBLISH
X-WR-CALNAME:NSACC
X-ORIGINAL-URL:https://nsacc.org.ng
X-WR-CALDESC:Events for NSACC
BEGIN:VTIMEZONE
TZID:UTC
BEGIN:STANDARD
TZOFFSETFROM:+0000
TZOFFSETTO:+0000
TZNAME:UTC
DTSTART:20250101T000000
END:STANDARD
END:VTIMEZONE
BEGIN:VEVENT
DTSTART;TZID=UTC:20250925T073000
DTEND;TZID=UTC:20251025T113000
DTSTAMP:20260422T012353
CREATED:20250919T095602Z
LAST-MODIFIED:20250919T095602Z
UID:2007-1758785400-1761391800@nsacc.org.ng
SUMMARY:INVITATION TO NIGERIA SOUTH AFRICA CHAMBER OF COMMERCE BREAKFAST MEETING: THURSDAY 25TH SEPTEMBER 2025 AT ABORA-MAZONIA SUITE\, EKO HOTEL\, LAGOS.
DESCRIPTION:INVITATION TO NIGERIA SOUTH AFRICA CHAMBER OF COMMERCE BREAKFAST MEETING: THURSDAY 25TH SEPTEMBER 2025 AT ABORA-MAZONIA SUITE\, EKO HOTEL\, LAGOS.
URL:https://nsacc.org.ng/event/invitation-to-nigeria-south-africa-chamber-of-commerce-breakfast-meeting-thursday-25th-september-2025-at-abora-mazonia-suite-eko-hotel-lagos/
END:VEVENT
END:VCALENDAR