BEGIN:VCALENDAR
VERSION:2.0
PRODID:-//NSACC - ECPv5.6.0//NONSGML v1.0//EN
CALSCALE:GREGORIAN
METHOD:PUBLISH
X-WR-CALNAME:NSACC
X-ORIGINAL-URL:https://nsacc.org.ng
X-WR-CALDESC:Events for NSACC
BEGIN:VTIMEZONE
TZID:UTC
BEGIN:STANDARD
TZOFFSETFROM:+0000
TZOFFSETTO:+0000
TZNAME:UTC
DTSTART:20210101T000000
END:STANDARD
END:VTIMEZONE
BEGIN:VEVENT
DTSTART;TZID=UTC:20220428T100000
DTEND;TZID=UTC:20220428T120000
DTSTAMP:20260420T190843
CREATED:20220422T070802Z
LAST-MODIFIED:20220422T070802Z
UID:1730-1651140000-1651147200@nsacc.org.ng
SUMMARY:INVITATION TO NIGERIA SOUTH AFRICA CHAMBER OF COMMERCE WEBINAR BREAKFAST MEETING: THURSDAY 28TH APRIL 2022
DESCRIPTION:INVITATION TO NIGERIA SOUTH AFRICA CHAMBER OF COMMERCE WEBINAR BREAKFAST MEETING: THURSDAY 28TH APRIL 2022 \nENDEAVOUR TO CLICK ON THIS LINK FOR REGISTRATION: https://bit.ly/NSACC19 \n 
URL:https://nsacc.org.ng/event/invitation-to-nigeria-south-africa-chamber-of-commerce-webinar-breakfast-meeting-thursday-28th-april-2022/
END:VEVENT
BEGIN:VEVENT
DTSTART;TZID=UTC:20220411T080000
DTEND;TZID=UTC:20220413T170000
DTSTAMP:20260420T190843
CREATED:20220207T121350Z
LAST-MODIFIED:20220207T121350Z
UID:1681-1649664000-1649869200@nsacc.org.ng
SUMMARY:AFRICA TRAVEL WEEK 2022 TO BE HELD IN CAPE TOWN
DESCRIPTION:AFRICA TRAVEL WEEK 2022 TO BE HELD IN CAPE TOWN \nAfrica Travel Week 2022 will be held in Cape Town from April 11 to 13\, 2022\, bringing together Pan-African and international exhibitors and buyers from across the globe at headline shows\, such as World Travel Market Africa (WTM Africa) and International Luxury Travel Market Africa (ILTM Africa). The event will include all the highlights that delegates have come to expect in the previous events\, including a robust speaker program and associated events like International Business Market Africa\, EQUAL Africa\, Africa Tourism Investment Summit (ATIS)\, Travel Forward and Sports and Events Tourism Exchange (SETE).  \nEQUAL Africa will convene travel suppliers\, buyers and lifestyle brands focusing on the LGBTQ+ community. For the meetings\, incentives\, conferences and events industry\, there’s IBTM Africa and stakeholders working in the sports\, events and tourism industries won’t want to miss SETE. Lastly\, Travel Forward is a travel technology show where travel executives and innovative solution providers gain access to insights\, open debate and networking opportunities. \nTourism investments across the continent will also be in the spotlight at the Africa Tourism Investment Summit\, which WTM Africa will be co-hosting with the International Tourism and Investment Summit (ITIC). \nFor the 2022 event\, Africa Travel Week will renew its partnerships with the International LGBTQ+ Travel Association\, Africa Tourism Association and Africa Travel and Tourism Association to ensure that the themes addressed at the event will reflect those pressing issues for tourism stakeholders seeking to reignite tourism to the continent. \n“The city of Cape Town has worked with the tourism industry and other government counterparts to put together health and safety protocols to ensure we can safely welcome international visitors to our shores\,” Executive Mayor Dan Plato said in a written statement. “Africa Travel Week is the perfect platform for us to showcase\, to the international market\, how our tourism sector has adapted to the times and improved on our already world-class offerings.” \nFor more details\, visit www.atwconnect.com \n 
URL:https://nsacc.org.ng/event/africa-travel-week-2022-to-be-held-in-cape-town/
END:VEVENT
BEGIN:VEVENT
DTSTART;TZID=UTC:20220324T100000
DTEND;TZID=UTC:20220324T120000
DTSTAMP:20260420T190843
CREATED:20220321T054246Z
LAST-MODIFIED:20220321T054501Z
UID:1693-1648116000-1648123200@nsacc.org.ng
SUMMARY:INVITATION TO NIGERIA SOUTH AFRICA CHAMBER OF COMMERCE WEBINAR BREAKFAST MEETING: THURSDAY 24TH MARCH 2022
DESCRIPTION:INVITATION TO NIGERIA SOUTH AFRICA CHAMBER OF COMMERCE WEBINAR BREAKFAST MEETING: THURSDAY 24TH MARCH 2022 \nENDEAVOUR TO CLICK ON THIS LINK FOR REGISTRATION: https://bit.ly/NSACC18
URL:https://nsacc.org.ng/event/invitation-to-nigeria-south-africa-chamber-of-commerce-webinar-breakfast-meeting-thursday-24th-march-2022/
ATTACH;FMTTYPE=image/jpeg:https://nsacc.org.ng/wp-content/uploads/2022/03/IMG-20220318-WA0006.jpg
END:VEVENT
BEGIN:VEVENT
DTSTART;TZID=UTC:20220309T080000
DTEND;TZID=UTC:20220312T170000
DTSTAMP:20260420T190843
CREATED:20220207T115601Z
LAST-MODIFIED:20220207T115609Z
UID:1678-1646812800-1647104400@nsacc.org.ng
SUMMARY:AFRICAN MINING INDABA FOR 2022
DESCRIPTION:AFRICAN MINING INDABA FOR 2022\nThe 2022 edition of Investing in African Mining Indaba\, originally scheduled for 7-10 February 2022 will now take place 9-12 May 2022 at the CTICC\, Cape Town\, South Africa. \nWe consulted extensively with our partners\, key stakeholders across the mining value chain and government ministers. Collectively we decided\, due to ongoing challenges caused by the coronavirus pandemic\, that a postponement was the most practical solution and provides the highest chance of holding a physical\, in-person event in 2022 where the industry can reconnect once again.\nWe are fully committed to running the event in South Africa and are grateful for the support of our Advisory Board\, partners and key stakeholders. \nFor further information send email to: info@miningindaba.com
URL:https://nsacc.org.ng/event/african-mining-indaba-for-2022/
END:VEVENT
BEGIN:VEVENT
DTSTART;TZID=UTC:20220301T080000
DTEND;TZID=UTC:20220302T170000
DTSTAMP:20260420T190843
CREATED:20220207T115332Z
LAST-MODIFIED:20220207T115346Z
UID:1676-1646121600-1646240400@nsacc.org.ng
SUMMARY:UPCOMING SOUTH AFRICAN PROGRAMMES
DESCRIPTION:AFRICA ENERGY INDABA \nThe 14th annual Africa Energy Indaba is the continent’s definitive energy conference and exhibition\, providing an agenda that influences energy policy for Africa. The prestigious event serves as the ideal platform for achieving Africa’s energy vision for a sustainable energy future and keeping abreast of global energy competitors in this dynamic landscape. The event hosts a conference and an exhibition and has proven its success year on year\, demonstrating extreme efficaciousness in addressing key issues impacting the African energy sector while devising solutions to best mitigate these pressing concerns. C-suite executives are the primary audience from across the continent and this provides a perfect platform to network\, engage and do energy business at the event.  \nHighlights \n\nCatalysing business & investment opportunities in the Africa Energy sector \nThe event hosts a conference and exhibition as well as a host of official side events. \nAn official Ministerial Roundtable and CEO Roundtables are hosted. \nConcurrent exhibition provides an excellent opportunity to showcase your products and services \n\nThe event is slated for 1st March to 2nd Mar 2022 at CTICC (Cape Town International Convention Centre)\, Cape Town\, South Africa. For further information call Thembisa Bambathi on \nTel: +27 11 463-9184 \n 
URL:https://nsacc.org.ng/event/upcoming-south-african-programmes/
END:VEVENT
BEGIN:VEVENT
DTSTART;TZID=UTC:20220224T100000
DTEND;TZID=UTC:20220224T120000
DTSTAMP:20260420T190843
CREATED:20220223T051935Z
LAST-MODIFIED:20220223T051935Z
UID:1686-1645696800-1645704000@nsacc.org.ng
SUMMARY:INVITATION TO NIGERIA SOUTH AFRICA CHAMBER OF COMMERCE WEBINAR BREAKFAST MEETING: THURSDAY 24TH FEBRUARY 2022
DESCRIPTION:ENDEAVOUR TO REGISTER FOR THIS WEBINAR BREAKFAST MEETING THROUGH THIS LINK: https://bit.ly/NSACC17
URL:https://nsacc.org.ng/event/invitation-to-nigeria-south-africa-chamber-of-commerce-webinar-breakfast-meeting-thursday-24th-february-2022/
END:VEVENT
BEGIN:VEVENT
DTSTART;TZID=UTC:20220127T100000
DTEND;TZID=UTC:20220127T120000
DTSTAMP:20260420T190843
CREATED:20220119T070931Z
LAST-MODIFIED:20220119T071308Z
UID:1608-1643277600-1643284800@nsacc.org.ng
SUMMARY:INVITATION TO NIGERIA SOUTH AFRICA CHAMBER OF COMMERCE WEBINAR BREAKFAST MEETING: THURSDAY 27TH JANUARY 2022
DESCRIPTION:  \nENDEAVOUR TO REGISTER FOR THIS WEBINAR BREAKFAST MEETING THROUGH THIS LINK: https://bit.ly/NSACC16
URL:https://nsacc.org.ng/event/invitation-to-nigeria-south-africa-chamber-of-commerce-webinar-breakfast-meeting-thursday-27th-january-2022/
ATTACH;FMTTYPE=image/jpeg:https://nsacc.org.ng/wp-content/uploads/2022/01/IMG-20220119-WA0000.jpg
END:VEVENT
BEGIN:VEVENT
DTSTART;TZID=UTC:20211125T100000
DTEND;TZID=UTC:20211125T120000
DTSTAMP:20260420T190843
CREATED:20211122T054148Z
LAST-MODIFIED:20211124T140529Z
UID:1576-1637834400-1637841600@nsacc.org.ng
SUMMARY:NSACC NOVEMBER 2021 WEBINAR BREAKFAST MEETING-THURSDAY 25TH NOVEMBER 2021
DESCRIPTION:The Nigeria-South Africa Chamber of Commerce (NSACC) is delighted to invite you to interact with our brilliant panel of discussants at the November 2021 Breakfast Forum. \nTOPIC: Embracing Sustainability – Key Insights \nAjibola Olomola\nVice-Chairman\, Nigeria-South Africa Chamber of\nCommerce (Moderator) \nSPEAKER: \nGregory Jobome\, Executive Director and Chair\, Green Bonds Committee Access Bank Plc \nPANELISTS \nOmobolanle Victor- Laniyan\, Head Sustainability\, Access Bank Plc \nCaroline Sampson\, Head Strategy & Sustainability Access Bank\, South Africa \nBernard Orji\, Partner and Sustainability Leader for West Africa\, Deloitte \nDouglas Kativu\, Director GRI\, Africa \nAmaechi Okobi\, Group Head\, Corporate Communications\, Access Bank Plc \nMinize Haron\, Head Marketing\, Access Bank South Africa \nAmanda Murray\, Brand Consultant \nTime \nNov 25\, 2021 10:00 AM in West Central Africa \nENDEAVOUR TO REGISTER FOR THIS WEBINAR BREAKFAST MEETING THROUGH THIS LINK: https://bit.ly/NSACC15
URL:https://nsacc.org.ng/event/nsacc-november-2021-webinar-breakfast-meeting-thursday-25th-november-2021/
ATTACH;FMTTYPE=image/jpeg:https://nsacc.org.ng/wp-content/uploads/2021/11/IMG-20211120-WA0004.jpg
END:VEVENT
BEGIN:VEVENT
DTSTART;TZID=UTC:20211028T100000
DTEND;TZID=UTC:20211028T120000
DTSTAMP:20260420T190843
CREATED:20211013T085113Z
LAST-MODIFIED:20211015T121510Z
UID:1520-1635415200-1635422400@nsacc.org.ng
SUMMARY:NSACC OCTOBER 2021 WEBINAR BREAKFAST MEETING-THURSDAY 28TH OCTOBER 2021
DESCRIPTION:The Nigeria-South Africa Chamber of Commerce (NSACC) is delighted to invite you to interact with our brilliant panel of discussants at the October 2021 Breakfast Webinar Meeting on Thursday 28th October 2021 \nTopic: “THE FUTURE OF WORK’’ \nOsayaba Giwa-Osagie (SAN)\, Chairman\, Nigeria-South Africa Chamber of Commerce (Opening Remarks) \nAjibola Olomola\, Vice-Chairman\, Nigeria-South Africa Chamber of Commerce (Moderator) \nSpeaker: JOSHUA ADEMUWAGUN\, HEAD OF ADVISORY\, PEOPLE TRANSFORMATION\, PCL \n PANELISTS: \n OMORINSOLA SOFOLA\, PARTNER STRATEGY &OPERATIONS TRANSFORMATION\, PCL \nBABAJIDE DUROSHOLA\, General Manager\, M-KOPA \nREMI DADA\, CEO\, SPACE FINISH \nTOSIN OKOJIE\, VICE-PRESIDENT\, FINANCIAL PLANNING AND ANALYSIS\, ANDELA
URL:https://nsacc.org.ng/event/nsacc-october-2021-webinar-breakfast-meeting-thursday-28th-october-2021/
ATTACH;FMTTYPE=image/jpeg:https://nsacc.org.ng/wp-content/uploads/2021/10/IMG-20211012-WA0005.jpg
END:VEVENT
BEGIN:VEVENT
DTSTART;VALUE=DATE:20211001
DTEND;VALUE=DATE:20211002
DTSTAMP:20260420T190843
CREATED:20210603T214022Z
LAST-MODIFIED:20210603T214639Z
UID:962-1633046400-1633132799@nsacc.org.ng
SUMMARY:Nigerian Independence Day
DESCRIPTION:Independence Day is an official national holiday in Nigeria\, celebrated on the first of October. It marks Nigeria’s proclamation of independence from British rule on 1 October 1960.
URL:https://nsacc.org.ng/event/nigerian-independence-day/
LOCATION:Four Points\, Plot 9/10 Block 2 Oniru Chieftaincy Estate\, Victoria Island\, Lagos\, Nigeria
ATTACH;FMTTYPE=image/jpeg:https://nsacc.org.ng/wp-content/uploads/2021/06/nigeria_1.jpeg
ORGANIZER;CN="NSACC":MAILTO:nsacc@nsacc.org.ng
END:VEVENT
BEGIN:VEVENT
DTSTART;VALUE=DATE:20210612
DTEND;VALUE=DATE:20210615
DTSTAMP:20260420T190843
CREATED:20210602T105353Z
LAST-MODIFIED:20210609T175946Z
UID:145-1623456000-1623715199@nsacc.org.ng
SUMMARY:Democracy Day
DESCRIPTION:Democracy Day is a national public holiday in Nigeria. From 2019\, it will be celebrated on June 12th each year. It was previously observed on May 29th. \nThe holiday marks the annulled general election of June 12th\, 1993. \nHistory of Nigerian Democracy Day\nSince 2000\, Nigeria has been celebrating May 29th as Democracy Day. \nWith the election of General Olusegun Obasanjo as President\, May 29th 199 was the second time in Nigeria’s history that an elected civilian administration was restored after the rule of a military junta. The first time this happened was on October 21st\, 1979. \nIn June 2018\, President Buhari announced that Democracy Day would move to June 12th from 2019
URL:https://nsacc.org.ng/event/democracy-day/
LOCATION:Lagos InterContinental Hotel\, The Lagos InterContinental Hotel\, Kofo Abayomi Street\, Lagos\, Lagos\, Nigeria
ATTACH;FMTTYPE=image/jpeg:https://nsacc.org.ng/wp-content/uploads/2021/06/nigeria_1.jpeg
ORGANIZER;CN="NSACC":MAILTO:nsacc@nsacc.org.ng
END:VEVENT
END:VCALENDAR