BEGIN:VCALENDAR
VERSION:2.0
PRODID:-//NSACC - ECPv5.6.0//NONSGML v1.0//EN
CALSCALE:GREGORIAN
METHOD:PUBLISH
X-WR-CALNAME:NSACC
X-ORIGINAL-URL:https://nsacc.org.ng
X-WR-CALDESC:Events for NSACC
BEGIN:VTIMEZONE
TZID:UTC
BEGIN:STANDARD
TZOFFSETFROM:+0000
TZOFFSETTO:+0000
TZNAME:UTC
DTSTART:20250101T000000
END:STANDARD
END:VTIMEZONE
BEGIN:VEVENT
DTSTART;TZID=UTC:20250130T073000
DTEND;TZID=UTC:20250130T103000
DTSTAMP:20260424T173745
CREATED:20250127T121150Z
LAST-MODIFIED:20250127T121150Z
UID:1797-1738222200-1738233000@nsacc.org.ng
SUMMARY:REMINDER : INVITATION NIGERIA SOUTH AFRICA CHAMBER OF COMMERCE BREAKFAST MEETING -THURSDAY 30TH JANUARY 2025 AT IRIS HALL\, EKO HOTEL\, VICTORIA ISLAND\, LAGOS
DESCRIPTION:
URL:https://nsacc.org.ng/event/reminder-invitation-nigeria-south-africa-chamber-of-commerce-breakfast-meeting-thursday-30th-january-2025-at-iris-hall-eko-hotel-victoria-island-lagos/
END:VEVENT
END:VCALENDAR