BEGIN:VCALENDAR
VERSION:2.0
PRODID:-//NSACC - ECPv5.6.0//NONSGML v1.0//EN
CALSCALE:GREGORIAN
METHOD:PUBLISH
X-WR-CALNAME:NSACC
X-ORIGINAL-URL:https://nsacc.org.ng
X-WR-CALDESC:Events for NSACC
BEGIN:VTIMEZONE
TZID:UTC
BEGIN:STANDARD
TZOFFSETFROM:+0000
TZOFFSETTO:+0000
TZNAME:UTC
DTSTART:20250101T000000
END:STANDARD
END:VTIMEZONE
BEGIN:VEVENT
DTSTART;TZID=UTC:20250626T073000
DTEND;TZID=UTC:20250626T103000
DTSTAMP:20260424T110015
CREATED:20250618T072346Z
LAST-MODIFIED:20250618T072346Z
UID:1950-1750923000-1750933800@nsacc.org.ng
SUMMARY:INVITATION TO NIGERIA SOUTH AFRICA CHAMBER OF COMMERCE BREAKFAST MEETING ON THURSDAY 26TH JUNE 2025 AT EKO HOTEL & SUITES\, VICTORIA ISLAND \, LAGOS
DESCRIPTION:INVITATION TO NIGERIA SOUTH AFRICA CHAMBER OF COMMERCE BREAKFAST MEETING ON THURSDAY 26TH JUNE 2025 AT EKO HOTEL & SUITES\, VICTORIA ISLAND \, LAGOS
URL:https://nsacc.org.ng/event/invitation-to-nigeria-south-africa-chamber-of-commerce-breakfast-meeting-on-thursday-26th-june-2025-at-eko-hotel-suites-victoria-island-lagos/
END:VEVENT
END:VCALENDAR